BEGIN:VCALENDAR
VERSION:2.0
PRODID:-//La Buleria - ECPv6.15.20//NONSGML v1.0//EN
CALSCALE:GREGORIAN
METHOD:PUBLISH
X-WR-CALNAME:La Buleria
X-ORIGINAL-URL:https://la-buleria.com
X-WR-CALDESC:Évènements pour La Buleria
REFRESH-INTERVAL;VALUE=DURATION:PT1H
X-Robots-Tag:noindex
X-PUBLISHED-TTL:PT1H
BEGIN:VTIMEZONE
TZID:Europe/Paris
BEGIN:DAYLIGHT
TZOFFSETFROM:+0100
TZOFFSETTO:+0200
TZNAME:CEST
DTSTART:20240331T010000
END:DAYLIGHT
BEGIN:STANDARD
TZOFFSETFROM:+0200
TZOFFSETTO:+0100
TZNAME:CET
DTSTART:20241027T010000
END:STANDARD
BEGIN:DAYLIGHT
TZOFFSETFROM:+0100
TZOFFSETTO:+0200
TZNAME:CEST
DTSTART:20250330T010000
END:DAYLIGHT
BEGIN:STANDARD
TZOFFSETFROM:+0200
TZOFFSETTO:+0100
TZNAME:CET
DTSTART:20251026T010000
END:STANDARD
BEGIN:DAYLIGHT
TZOFFSETFROM:+0100
TZOFFSETTO:+0200
TZNAME:CEST
DTSTART:20260329T010000
END:DAYLIGHT
BEGIN:STANDARD
TZOFFSETFROM:+0200
TZOFFSETTO:+0100
TZNAME:CET
DTSTART:20261025T010000
END:STANDARD
BEGIN:DAYLIGHT
TZOFFSETFROM:+0100
TZOFFSETTO:+0200
TZNAME:CEST
DTSTART:20270328T010000
END:DAYLIGHT
BEGIN:STANDARD
TZOFFSETFROM:+0200
TZOFFSETTO:+0100
TZNAME:CET
DTSTART:20271031T010000
END:STANDARD
END:VTIMEZONE
BEGIN:VEVENT
DTSTART;TZID=Europe/Paris:20250915T180000
DTEND;TZID=Europe/Paris:20260617T170000
DTSTAMP:20260425T170832
CREATED:20220806T112844Z
LAST-MODIFIED:20250723T131722Z
UID:3632-1757959200-1781715600@la-buleria.com
SUMMARY:Horaire de cours 2025 2026
DESCRIPTION:Les cours reprendront le lundi 15 Septembre 2025 \nhoraires_25-26 verso MAJ horaires_25-26 verso MAJ \n  \n  \n  \n  \n 
URL:https://la-buleria.com/evenement-flamenco/horaire-de-cours-2022-2023/
LOCATION:LA BULERIA\, 105 route d'Agde\, toulouse\, 31500\, France
CATEGORIES:A LA UNE
ATTACH;FMTTYPE=image/jpeg:https://la-buleria.com/wp-content/uploads/2024/08/bg_home-slider.jpg
END:VEVENT
END:VCALENDAR