BEGIN:VCALENDAR
VERSION:2.0
PRODID:-//La Buleria - ECPv6.15.20//NONSGML v1.0//EN
CALSCALE:GREGORIAN
METHOD:PUBLISH
X-ORIGINAL-URL:https://la-buleria.com
X-WR-CALDESC:Évènements pour La Buleria
REFRESH-INTERVAL;VALUE=DURATION:PT1H
X-Robots-Tag:noindex
X-PUBLISHED-TTL:PT1H
BEGIN:VTIMEZONE
TZID:Europe/Paris
BEGIN:DAYLIGHT
TZOFFSETFROM:+0100
TZOFFSETTO:+0200
TZNAME:CEST
DTSTART:20250330T010000
END:DAYLIGHT
BEGIN:STANDARD
TZOFFSETFROM:+0200
TZOFFSETTO:+0100
TZNAME:CET
DTSTART:20251026T010000
END:STANDARD
BEGIN:DAYLIGHT
TZOFFSETFROM:+0100
TZOFFSETTO:+0200
TZNAME:CEST
DTSTART:20260329T010000
END:DAYLIGHT
BEGIN:STANDARD
TZOFFSETFROM:+0200
TZOFFSETTO:+0100
TZNAME:CET
DTSTART:20261025T010000
END:STANDARD
BEGIN:DAYLIGHT
TZOFFSETFROM:+0100
TZOFFSETTO:+0200
TZNAME:CEST
DTSTART:20270328T010000
END:DAYLIGHT
BEGIN:STANDARD
TZOFFSETFROM:+0200
TZOFFSETTO:+0100
TZNAME:CET
DTSTART:20271031T010000
END:STANDARD
END:VTIMEZONE
BEGIN:VEVENT
DTSTART;TZID=Europe/Paris:20260617T180000
DTEND;TZID=Europe/Paris:20260617T230000
DTSTAMP:20260425T170644
CREATED:20250829T112111Z
LAST-MODIFIED:20250829T112111Z
UID:4078-1781719200-1781737200@la-buleria.com
SUMMARY:Spectacle de fin d'année de l'école la Buleria
DESCRIPTION:L’école la Buleria présente son spectacle de fin d’année au Bascala mercredi 17 Juin 2026 \nDeux représentations: 18h00 et 21h00 \n 
URL:https://la-buleria.com/evenement-flamenco/spectacle-de-fin-dannee-de-lecole-la-buleria-2/
LOCATION:LE BASCALA\, 12 Rue de la Briqueterie\, Bruguières\, 31150\, France
CATEGORIES:SPECTACLE
ATTACH;FMTTYPE=image/jpeg:https://la-buleria.com/wp-content/uploads/2021/12/base_logo_buleria_9.jpg
END:VEVENT
END:VCALENDAR